BEGIN:VCALENDAR
VERSION:2.0
PRODID:-//ChamberMaster//Event Calendar 2.0//EN
METHOD:PUBLISH
X-PUBLISHED-TTL:P3D
REFRESH-INTERVAL:P3D
CALSCALE:GREGORIAN
BEGIN:VEVENT
DTSTART:20240610T220000Z
DTEND:20240610T230000Z
X-MICROSOFT-CDO-ALLDAYEVENT:FALSE
SUMMARY:Bounce + Bubbles
DESCRIPTION:we are firm believers that there's no such thing as a birthDAY - it's a birthWEEK. what better way to kick off the week than with a bounce class followed by a glass of champagne. we love to sweat with you and have an excuse to spend a little extra time together. sign up today to grab a spot.\n\n\n\nmore on sweat\, shake + bounce:\n\nwhat could be better than all the resistance training you've come to know + love with sweat + shake? the addition of low impact bouncing - bring on the rebounder trampolines! we're taking the strength portions of your fav sweat + shake class + getting the heart rate elevated throughout with the addition of interspersed bounce sections. this class is designed to work your full body\, increase circulation\, balance + endurance while keeping your joints safe + your muscles long + lean.
X-ALT-DESC;FMTTYPE=text/html:<span style="color:rgb(0\, 0\, 0)\; font-family:arial\; font-size:10pt">we are firm believers that there&#39\;s no such thing as a birthDAY - it&#39\;s a birthWEEK. what better way to kick off the week than with a bounce class followed by a glass of champagne. we love to sweat with you and have an excuse to spend a little extra time together. sign up today to grab a spot.<br />\n<br />\nmore on sweat\, shake + bounce:<br />\nwhat could be better than all the resistance training you&rsquo\;ve come to know + love with sweat + shake? the addition of low impact bouncing - bring on the rebounder trampolines! we&rsquo\;re taking the strength portions of your fav sweat + shake class + getting the heart rate elevated throughout with the addition of interspersed bounce sections. this class is designed to work your full body\, increase circulation\, balance + endurance while keeping your joints safe + your muscles long + lean.</span>
LOCATION:The Daily Sweat 65 Portland Rd. Kennebunk\, ME 04043
UID:e.1923.25282
SEQUENCE:3
DTSTAMP:20260421T140101Z
URL:https://chamber.gokennebunks.com/events/details/bounce-bubbles-06-10-2024-25282
END:VEVENT

END:VCALENDAR
