BEGIN:VCALENDAR
VERSION:2.0
PRODID:-//ChamberMaster//Event Calendar 2.0//EN
METHOD:PUBLISH
X-PUBLISHED-TTL:P3D
REFRESH-INTERVAL:P3D
CALSCALE:GREGORIAN
BEGIN:VEVENT
DTSTART;VALUE=DATE:20220702
DTEND;VALUE=DATE:20220703
TRANSP:TRANSPARENT
X-MICROSOFT-CDO-ALLDAYEVENT:TRUE
SUMMARY:Boston Day at Seashore Trolley Museum
DESCRIPTION:Join us for Boston Day at Seashore Trolley Museum! The day will be packed with special tours\, amazing rides\, informative lectures and even opportunities to operate a trolley! Check out the full schedule on Seashore Trolley Museum's webpage (www.trolleymuseum.org) as the date gets closer for the event's PACKED schedule of activities. We hope to see you!
X-ALT-DESC;FMTTYPE=text/html:<span style="font-family:merriweather\,georgia\,times new roman\,times\,serif\; font-size:16px">Join us for Boston Day at Seashore Trolley Museum! The day will be packed with special tours\, amazing rides\, informative lectures and even opportunities to operate a trolley! Check out the full schedule on Seashore Trolley Museum's webpage (www.trolleymuseum.org) as the date gets closer for the event's PACKED schedule of activities. We hope to see you!</span>
LOCATION:Seashore Trolley Museum 195 Log Cabin Road Kennebunkport\, ME 04046
UID:e.1923.17417
SEQUENCE:3
DTSTAMP:20260419T192400Z
URL:https://chamber.gokennebunks.com/events/details/boston-day-at-seashore-trolley-museum-07-02-2022-17417
END:VEVENT

END:VCALENDAR
