BEGIN:VCALENDAR
VERSION:2.0
PRODID:-//ChamberMaster//Event Calendar 2.0//EN
METHOD:PUBLISH
X-PUBLISHED-TTL:P3D
REFRESH-INTERVAL:P3D
CALSCALE:GREGORIAN
BEGIN:VEVENT
DTSTART;VALUE=DATE:20230805
DTEND;VALUE=DATE:20230806
TRANSP:TRANSPARENT
X-MICROSOFT-CDO-ALLDAYEVENT:TRUE
SUMMARY:Boston Day at Seashore
DESCRIPTION:Join us for Boston Day at Seashore Trolley Museum! Check www.trolleymuseum.org as the date gets closer to see what activities and featured artifacts we have in store.
X-ALT-DESC;FMTTYPE=text/html:<span style="font-family:merriweather\,georgia\,times new roman\,times\,serif\; font-size:16px">Join us for Boston Day at Seashore Trolley Museum! Check <a href="http://www.trolleymuseum.org">www.trolleymuseum.org</a> as the date gets closer to see what activities and featured artifacts we have in store.</span>
LOCATION:Seashore Trolley Museum 195 Log Cabin Road Kennebunkport\, ME 04046
UID:e.1923.19093
SEQUENCE:3
DTSTAMP:20260422T033603Z
URL:https://chamber.gokennebunks.com/events/details/boston-day-at-seashore-19093
END:VEVENT

END:VCALENDAR
