BEGIN:VCALENDAR
VERSION:2.0
PRODID:-//ChamberMaster//Event Calendar 2.0//EN
METHOD:PUBLISH
X-PUBLISHED-TTL:P3D
REFRESH-INTERVAL:P3D
CALSCALE:GREGORIAN
BEGIN:VEVENT
DTSTART:20180211T180000Z
DTEND:20180211T200000Z
X-MICROSOFT-CDO-ALLDAYEVENT:FALSE
SUMMARY:Book Presentation
DESCRIPTION:Patricia Q. Wall will present her recent book "Lives of Consequence: Blacks in Early Kittery and Berwick in the Massachusetts Province of Maine". There will be a Q and A and refreshments will be available. Hosted by the Arundel Historical Society.
X-ALT-DESC;FMTTYPE=text/html:Patricia Q. Wall will present her recent book &quot\;Lives of Consequence: Blacks in Early Kittery and Berwick in the Massachusetts Province of Maine&quot\;. There will be a Q and A and refreshments will be available. Hosted by the Arundel Historical Society.
LOCATION:M.L.Day School Library- Limerick Road \, Arundel
UID:e.1923.6994
SEQUENCE:3
DTSTAMP:20260425T194322Z
URL:https://chamber.gokennebunks.com/events/details/book-presentation-6994
END:VEVENT

END:VCALENDAR
