BEGIN:VCALENDAR
VERSION:2.0
PRODID:-//ChamberMaster//Event Calendar 2.0//EN
METHOD:PUBLISH
X-PUBLISHED-TTL:P3D
REFRESH-INTERVAL:P3D
CALSCALE:GREGORIAN
BEGIN:VEVENT
DTSTART:20191006T180000Z
DTEND:20191006T200000Z
X-MICROSOFT-CDO-ALLDAYEVENT:FALSE
SUMMARY:BOHEMIAN SUNDAY POETRY READINGS
DESCRIPTION:WePoets & Verse\, a Kennebunk writers poetry circle\, is hosting the community's participation in reading one of their own poems or one from their favorite poet\, or just sit back\, listen and enjoy! Come early to savor Mornings in Paris savory and sweet menu choices. French wines and Belgium beers among the delightful choices. All are welcome!
X-ALT-DESC;FMTTYPE=text/html:WePoets &amp\; Verse\, a Kennebunk writers poetry circle\, is hosting the community&#39\;s participation in reading one of their own poems or one from their favorite poet\, or just sit back\, listen and enjoy! Come early to savor Mornings in Paris savory and sweet menu choices. French wines and Belgium beers among the delightful choices. All are welcome!
LOCATION:MORNINGS IN PARIS CAFE\, 21 Western Ave. Lower Village\, Kennebunk
UID:e.1923.13481
SEQUENCE:3
DTSTAMP:20260424T141311Z
URL:https://chamber.gokennebunks.com/events/details/bohemian-sunday-poetry-readings-13481
END:VEVENT

END:VCALENDAR
