BEGIN:VCALENDAR
VERSION:2.0
PRODID:-//ChamberMaster//Event Calendar 2.0//EN
METHOD:PUBLISH
X-PUBLISHED-TTL:P3D
REFRESH-INTERVAL:P3D
CALSCALE:GREGORIAN
BEGIN:VEVENT
DTSTART:20230930T000000Z
DTEND:20230930T030000Z
X-MICROSOFT-CDO-ALLDAYEVENT:FALSE
SUMMARY:Bob Seger Tribute: LIVE BULLET
DESCRIPTION:Live Bullet is the difference between a "tribute band" and a "live concert experience\," faithfully reproducing the power and richness of music that Bob Seger has been making for four decades. From hits like "Main Street" and gems like "Heavy Music" to the heart-ripping "Turn the Page"\, this is the only thing better than seeing Bob Seger live!
X-ALT-DESC;FMTTYPE=text/html:Live Bullet is the difference between a &ldquo\;tribute band&rdquo\; and a &ldquo\;live concert experience\,&rdquo\; faithfully reproducing the power and richness of music that Bob Seger has been making for four decades. From hits like &ldquo\;Main Street&rdquo\; and gems like &ldquo\;Heavy Music&rdquo\; to the heart-ripping &ldquo\;Turn the Page&rdquo\;\, this is the only thing better than seeing Bob Seger live!
LOCATION:53 Old Post Road\, Arundel\, ME\, United States\, Maine
UID:e.1923.22407
SEQUENCE:3
DTSTAMP:20260422T034001Z
URL:https://chamber.gokennebunks.com/events/details/bob-seger-tribute-live-bullet-09-29-2023-22407
END:VEVENT

END:VCALENDAR
