BEGIN:VCALENDAR
VERSION:2.0
PRODID:-//ChamberMaster//Event Calendar 2.0//EN
METHOD:PUBLISH
X-PUBLISHED-TTL:P3D
REFRESH-INTERVAL:P3D
CALSCALE:GREGORIAN
BEGIN:VEVENT
DTSTART:20190914T000000Z
DTEND:20190914T020000Z
X-MICROSOFT-CDO-ALLDAYEVENT:FALSE
SUMMARY:Bob Seger Tribute: Live Bullet
DESCRIPTION:Live Bullet is the difference between a "tribute band" and a "Live Concert Experience." From hits like "Main Street" and gems like "Heavy Music" to the heart ripping "Turn the Page"\, this is the only thing better than seeing Bob Seger live!
X-ALT-DESC;FMTTYPE=text/html:Live Bullet is the difference between a &ldquo\;tribute band&rdquo\; and a &ldquo\;Live Concert Experience.&rdquo\; From hits like &ldquo\;Main Street&rdquo\; and gems like &ldquo\;Heavy Music&rdquo\; to the heart ripping &ldquo\;Turn the Page&rdquo\;\, this is the only thing better than seeing Bob Seger live!
LOCATION:Vinegar Hill Music Theatre 53 Old Post Rd. Arundel\, ME 04046
UID:e.1923.13061
SEQUENCE:3
DTSTAMP:20260424T154033Z
URL:https://chamber.gokennebunks.com/events/details/bob-seger-tribute-live-bullet-09-13-2019-13061
END:VEVENT

END:VCALENDAR
