BEGIN:VCALENDAR
VERSION:2.0
PRODID:-//ChamberMaster//Event Calendar 2.0//EN
METHOD:PUBLISH
X-PUBLISHED-TTL:P3D
REFRESH-INTERVAL:P3D
CALSCALE:GREGORIAN
BEGIN:VEVENT
DTSTART:20180111T210000Z
DTEND:20180112T020000Z
X-MICROSOFT-CDO-ALLDAYEVENT:FALSE
SUMMARY:Blues\, Brews and BBQs
DESCRIPTION:Join us every Thursday Starting this week for Blues\, Brews and BBQ's. We have Great Specials\, Beer and even Live Blues Music! Music starts at 6 pm! Come on in!
X-ALT-DESC;FMTTYPE=text/html:Join us every Thursday Starting this week for Blues\, Brews and BBQ&#39\;s. We have Great Specials\, Beer and even Live Blues Music! Music starts at 6 pm! Come on in!
LOCATION:Federal Jacks Kennebunk Maine
UID:e.1923.7001
SEQUENCE:3
DTSTAMP:20260425T211139Z
URL:https://chamber.gokennebunks.com/events/details/blues-brews-and-bbqs-7001
END:VEVENT

END:VCALENDAR
