BEGIN:VCALENDAR
VERSION:2.0
PRODID:-//ChamberMaster//Event Calendar 2.0//EN
METHOD:PUBLISH
X-PUBLISHED-TTL:P3D
REFRESH-INTERVAL:P3D
CALSCALE:GREGORIAN
BEGIN:VEVENT
DTSTART:20220723T130000Z
DTEND:20220723T190000Z
X-MICROSOFT-CDO-ALLDAYEVENT:FALSE
SUMMARY:Blueberry Festival & Crafts Fair
DESCRIPTION:The festival features home-made blueberry pie\, crab rolls\, natural casing hot dogs\, veggie wraps\, and lemon ice cream. Artists and crafters from all over New England will be selling everything from blueberry cheese to books\, traditional and modern art to reclaimed wood items\, and embellished clothing to gifts\, even some for your pets. The table of vintage jewelry is always popular.
X-ALT-DESC;FMTTYPE=text/html:The festival features home-made blueberry pie\, crab rolls\, natural casing hot dogs\, veggie wraps\, and lemon ice cream. Artists and crafters from all over New England will be selling everything from blueberry cheese to books\, traditional and modern art to reclaimed wood items\, and embellished clothing to gifts\, even some for your pets. The table of vintage jewelry is always popular.
LOCATION:First Parish UU Church
UID:e.1923.17595
SEQUENCE:3
DTSTAMP:20260419T175755Z
URL:https://chamber.gokennebunks.com/events/details/blueberry-festival-crafts-fair-17595
END:VEVENT

END:VCALENDAR
