BEGIN:VCALENDAR
VERSION:2.0
PRODID:-//ChamberMaster//Event Calendar 2.0//EN
METHOD:PUBLISH
X-PUBLISHED-TTL:P3D
REFRESH-INTERVAL:P3D
CALSCALE:GREGORIAN
BEGIN:VEVENT
DTSTART:20250726T130000Z
DTEND:20250726T190000Z
X-MICROSOFT-CDO-ALLDAYEVENT:FALSE
SUMMARY:Blueberry Festival & Crafts Fair
DESCRIPTION:This annual festival features home-made blueberry pie and blueberry buckle\, crab rolls\, hot dogs\, veggie wraps\, and home-made lemon gelato served at our outdoor cafe\; 44 outstanding artists\, crafters and artisans\; new this year   raffle tent featuring boat rides and many arts and crafts\; live music\; and vintage jewelry. All welcome!
X-ALT-DESC;FMTTYPE=text/html:This annual festival features home-made blueberry pie and blueberry buckle\, crab rolls\, hot dogs\, veggie wraps\, and home-made lemon gelato served at our outdoor cafe\; 44 outstanding artists\, crafters and artisans\; new this year &mdash\; raffle tent featuring boat rides and many arts and crafts\; live music\; and vintage jewelry. All welcome!
LOCATION:First Parish Unitarian Universalist Church\, 114 Main St. Kennebunk.
UID:e.1923.37662
SEQUENCE:3
DTSTAMP:20260421T073957Z
URL:https://chamber.gokennebunks.com/events/details/blueberry-festival-crafts-fair-07-26-2025-37662
END:VEVENT

END:VCALENDAR
