BEGIN:VCALENDAR
VERSION:2.0
PRODID:-//ChamberMaster//Event Calendar 2.0//EN
METHOD:PUBLISH
X-PUBLISHED-TTL:P3D
REFRESH-INTERVAL:P3D
CALSCALE:GREGORIAN
BEGIN:VEVENT
DTSTART:20240428T170000Z
DTEND:20240428T210000Z
X-MICROSOFT-CDO-ALLDAYEVENT:FALSE
SUMMARY:blossom + bliss retreat
DESCRIPTION:we've partnered with river's edge spa + salon to create an afternoon of pampering right in the heart of kennebunkport\, me this april. enjoy a spa service\, yoga\, meditation\, sauna + cold plunge right in our back yard surrounded by nature. interested? details at the link below. space is limited\, sign up by march 28th to secure your spot.
X-ALT-DESC;FMTTYPE=text/html:<span style="color:rgb(0\, 0\, 0)\; font-family:bitter\; font-size:19.8px">we&rsquo\;ve partnered with river&rsquo\;s edge spa + salon to create an afternoon of pampering right in the heart of kennebunkport\, me this april. enjoy a spa service\, yoga\, meditation\, sauna + cold plunge right in our back yard surrounded by nature. interested? details at the link below. space is limited\, sign up by march 28th to secure your spot.</span>
LOCATION:57 Gravelly Brook Rd Kennebunkport\, ME
UID:e.1923.24492
SEQUENCE:3
DTSTAMP:20260421T163950Z
URL:https://chamber.gokennebunks.com/events/details/blossom-bliss-retreat-24492
END:VEVENT

END:VCALENDAR
