BEGIN:VCALENDAR
VERSION:2.0
PRODID:-//ChamberMaster//Event Calendar 2.0//EN
METHOD:PUBLISH
X-PUBLISHED-TTL:P3D
REFRESH-INTERVAL:P3D
CALSCALE:GREGORIAN
BEGIN:VEVENT
DTSTART:20250427T170000Z
DTEND:20250427T210000Z
X-MICROSOFT-CDO-ALLDAYEVENT:FALSE
SUMMARY:blossom + bliss retreat
DESCRIPTION:unwind + center yourself right in our backyard this april. we've partnered with river's edge spa + salon to bring you  a local half day retreat that will leave you feeling pampered. we'll be taking over the beautiful kennebunkport conservation trust\, full of lush landscapes\, trails to peruse and a beautiful deck overlooking the property. the space offers stunning views\, incredibly peaceful and spacious grounds. we are bringing in saunas for added relaxation. enjoy snacks from the daily balance\, with both vegan + vegetarian options provided. the afternoon will include time to unwind\, an Aesthetic Educator-Led DIY Facial Experience\, restorative yoga\, meditation + more. \n\n\n\nall attendees will enjoy:\n\na restorative practice\n\nAesthetic Educator-Led DIY Facial Experience\n\ntime in the sauna\, on the trails + healthy food by the fire\n\nclosing circle + meditation\n\n\n\nsign up now to reserve your spot today. thedailysweatkennebunk.com/retreat
X-ALT-DESC;FMTTYPE=text/html:<p>unwind + center yourself right in our backyard this april. we&rsquo\;ve partnered with river&rsquo\;s edge spa + salon to bring you&nbsp\; a local half day retreat that will leave you feeling pampered. we&rsquo\;ll be taking over the beautiful kennebunkport conservation trust\, full of lush landscapes\, trails to peruse and a beautiful deck overlooking the property. the space offers stunning views\, incredibly peaceful and spacious grounds. we are bringing in saunas for added relaxation. enjoy snacks from the daily balance\, with both vegan + vegetarian options provided. the afternoon will include time to unwind\, an Aesthetic Educator-Led DIY Facial Experience\, restorative yoga\, meditation + more.&nbsp\;<br />\n<br />\nall attendees will enjoy:<br />\na restorative practice<br />\nAesthetic Educator-Led DIY Facial Experience<br />\ntime in the sauna\, on the trails + healthy food by the fire<br />\nclosing circle + meditation<br />\n<br />\nsign up now to reserve your spot today. thedailysweatkennebunk.com/retreat</p>\n
LOCATION:The Kennebunkport Conservation Trust 57 Gravelly Brook RD\, Kennebunkport\, ME\, 04046
UID:e.1923.33309
SEQUENCE:3
DTSTAMP:20260421T003635Z
URL:https://chamber.gokennebunks.com/events/details/blossom-bliss-retreat-04-27-2025-33309
END:VEVENT

END:VCALENDAR
