BEGIN:VCALENDAR
VERSION:2.0
PRODID:-//ChamberMaster//Event Calendar 2.0//EN
METHOD:PUBLISH
X-PUBLISHED-TTL:P3D
REFRESH-INTERVAL:P3D
CALSCALE:GREGORIAN
BEGIN:VEVENT
DTSTART:20240602T140000Z
DTEND:20240602T190000Z
X-MICROSOFT-CDO-ALLDAYEVENT:FALSE
SUMMARY:Bloom: a wellness gathering
DESCRIPTION:Join us for a one day inclusive experience focused on holistic wellness featuring yoga\, meditation\, mini spa sessions\, energy medicine\, Osteopathic Manipulation\, nutrition\, astrology\, herbalism and more. Bloom is designed to restore\, refresh\, and present simple ways to care for oneself and build sustainable habits for healthy living. The day promises awakening and renewal\, aligning with spring's arrival. \n \n\nThe day will open with mindfulness meditation and yoga flow then will move into inspiring\, conscious conversations\, followed by experientials\, including energy healing sessions\, integrative massage\, facial gua sha\, herbal foot soaks\, astrology + oracle card readings\, and more. Meditations will be woven into the day\, reinforcing the power of breath and creating a gentle transition between sessions.\n \n\nA nourishing lunch including fresh\, local foods and herbal teas will be provided. Attendees can peruse a marketplace of local vendors for more information and to purchase wellness products over the course of the day. We'll wind down with a closing yin yoga session and sound healing\, followed by refreshments and live music for all to enjoy.\n \n\nBloom is created to embrace those just arriving into the world of wellness\, those who can teach it\, and all levels in between. Join us and awaken your wellness.\n\n\n\nRegister here: https://www.thefifthom.com/events/2024/6/2/bloom-a-wellness-gathering
X-ALT-DESC;FMTTYPE=text/html:<p><span style="background-color:transparent\; color:rgb(19\, 79\, 92)\; font-family:georgia\,serif\; font-size:11pt">Join us for a one day inclusive experience focused on holistic wellness featuring yoga\, meditation\, mini spa sessions\, energy medicine\, Osteopathic Manipulation\, nutrition\, astrology\, herbalism and more. </span><em>Bloom</em><span style="background-color:transparent\; color:rgb(19\, 79\, 92)\; font-family:georgia\,serif\; font-size:11pt"> is designed to restore\, refresh\, and present simple ways to care for oneself and build sustainable habits for healthy living. The day promises awakening and renewal\, aligning with spring&rsquo\;s arrival.&nbsp\;</span></p>\n&nbsp\;\n\n<p><span style="background-color:transparent\; color:rgb(19\, 79\, 92)\; font-family:georgia\,serif\; font-size:11pt">The day will open with mindfulness meditation and yoga flow then will move into inspiring\, conscious conversations\, followed by experientials\, including energy healing sessions\, integrative massage\, facial gua sha\, herbal foot soaks\, astrology + oracle card readings\, and more. Meditations will be woven into the day\, reinforcing the power of breath and creating a gentle transition between sessions.</span></p>\n&nbsp\;\n\n<p><span style="background-color:transparent\; color:rgb(19\, 79\, 92)\; font-family:georgia\,serif\; font-size:11pt">A nourishing lunch including fresh\, local foods and herbal teas will be provided. Attendees can peruse a marketplace of local vendors for more information and to purchase wellness products over the course of the day. We&rsquo\;ll wind down with a closing yin yoga session and sound healing\, followed by refreshments and live music for all to enjoy.</span></p>\n&nbsp\;\n\n<p><span style="background-color:transparent\; color:rgb(19\, 79\, 92)\; font-family:georgia\,serif\; font-size:11pt">Bloom is created to embrace those just arriving into the world of wellness\, those who can teach it\, and all levels in between. Join us and awaken your wellness.<br />\n<br />\nRegister here:&nbsp\;</span>https://www.thefifthom.com/events/2024/6/2/bloom-a-wellness-gathering&nbsp\;</p>\n\n<div>&nbsp\;</div>\n
LOCATION:The Fifth Om\, 5 Nasons Ct. Kennebunk\, ME
UID:e.1923.25290
SEQUENCE:3
DTSTAMP:20260421T140136Z
URL:https://chamber.gokennebunks.com/events/details/bloom-a-wellness-gathering-06-02-2024-25290
END:VEVENT

END:VCALENDAR
