BEGIN:VCALENDAR
VERSION:2.0
PRODID:-//ChamberMaster//Event Calendar 2.0//EN
METHOD:PUBLISH
X-PUBLISHED-TTL:P3D
REFRESH-INTERVAL:P3D
CALSCALE:GREGORIAN
BEGIN:VEVENT
DTSTART:20190616T153000Z
DTEND:20190616T163000Z
X-MICROSOFT-CDO-ALLDAYEVENT:FALSE
SUMMARY:Blessing of the Fleet
DESCRIPTION:
X-ALT-DESC;FMTTYPE=text/html:
LOCATION:Cape Porpoise Harbor
UID:e.1923.13110
SEQUENCE:3
DTSTAMP:20260424T210136Z
URL:https://chamber.gokennebunks.com/events/details/blessing-of-the-fleet-13110
END:VEVENT

END:VCALENDAR
