BEGIN:VCALENDAR
VERSION:2.0
PRODID:-//ChamberMaster//Event Calendar 2.0//EN
METHOD:PUBLISH
X-PUBLISHED-TTL:P3D
REFRESH-INTERVAL:P3D
CALSCALE:GREGORIAN
BEGIN:VEVENT
DTSTART;VALUE=DATE:20231124
DTEND;VALUE=DATE:20231125
TRANSP:TRANSPARENT
X-MICROSOFT-CDO-ALLDAYEVENT:TRUE
SUMMARY:Black Friday at The Daily Sweat
DESCRIPTION:it's the biggest shopping day of the year + we'll have deals + promotions throughout the day today
X-ALT-DESC;FMTTYPE=text/html:it&rsquo\;s the biggest shopping day of the year + we&rsquo\;ll have deals + promotions throughout the day today
LOCATION:The Daily Sweat 65 Portland Rd Building A Unit D\, Kennebunk\, ME 04043
UID:e.1923.23054
SEQUENCE:3
DTSTAMP:20260421T233001Z
URL:https://chamber.gokennebunks.com/events/details/black-friday-at-the-daily-sweat-23054
END:VEVENT

END:VCALENDAR
