BEGIN:VCALENDAR
VERSION:2.0
PRODID:-//ChamberMaster//Event Calendar 2.0//EN
METHOD:PUBLISH
X-PUBLISHED-TTL:P3D
REFRESH-INTERVAL:P3D
CALSCALE:GREGORIAN
BEGIN:VEVENT
DTSTART:20240615T130000Z
DTEND:20240615T143000Z
X-MICROSOFT-CDO-ALLDAYEVENT:FALSE
SUMMARY:Birthday Bash
DESCRIPTION:As a small\, local\, woman owned business we are ready to celebrate FIVE years\, the support of our sweatTRIBE is unparalleled. Join us for ninety minutes of pure bliss as we celebrate year five. You'll get a chance to experience a little bit of A L L our favorites moves and jam out with us to our favorite songs. We know you have many options for your workouts\, and we can't thank you enough for supporting\, and choosing to sweat local with us. grab your sweat friends + your mat + let's sweat together! After class enjoy smoothies from Fia Fia Cafe. This will be a donation based class with all proceeds benefitting Special Surfers.
X-ALT-DESC;FMTTYPE=text/html:<span style="color:rgb(0\, 0\, 0)\; font-family:arial\; font-size:10pt">As a small\, local\, woman owned business we are ready to celebrate FIVE years\, the support of our sweatTRIBE is unparalleled. Join us for ninety minutes of pure bliss as we celebrate year five. You&rsquo\;ll get a chance to experience a little bit of A L L our favorites moves and jam out with us to our favorite songs. We know you have many options for your workouts\, and we can&rsquo\;t thank you enough for supporting\, and choosing to sweat local with us. grab your sweat friends + your mat + let&#39\;s sweat together! After class enjoy smoothies from Fia Fia Cafe. This will be a donation based class with all proceeds benefitting Special Surfers.</span>
LOCATION:Lafayette Park 9 Storer St. Kennebunk\, ME 04043
UID:e.1923.25286
SEQUENCE:3
DTSTAMP:20260421T135952Z
URL:https://chamber.gokennebunks.com/events/details/birthday-bash-06-15-2024-25286
END:VEVENT

END:VCALENDAR
