BEGIN:VCALENDAR
VERSION:2.0
PRODID:-//ChamberMaster//Event Calendar 2.0//EN
METHOD:PUBLISH
X-PUBLISHED-TTL:P3D
REFRESH-INTERVAL:P3D
CALSCALE:GREGORIAN
BEGIN:VEVENT
DTSTART:20180612T110000Z
DTEND:20180612T160000Z
X-MICROSOFT-CDO-ALLDAYEVENT:FALSE
SUMMARY:Bird Banding Demonstration
DESCRIPTION:Visit the bird banding station at the Wells Reserve at Laudholm\, where bird studies have been ongoing for more than 25 years. Scientists from the Biodiversity Research Institute and the Maine Medical Center Research Institute are contributing to knowledge of bird migration\, breeding activities\, life spans\, and vector ecology. You may even get to release one of the songbirds from your hand!
X-ALT-DESC;FMTTYPE=text/html:Visit the bird banding station at the Wells Reserve at Laudholm\, where bird studies have been ongoing for more than 25 years. Scientists from the Biodiversity Research Institute and the Maine Medical Center Research Institute are contributing to knowledge of bird migration\, breeding activities\, life spans\, and vector ecology. You may even get to release one of the songbirds from your hand!
LOCATION:342 Laudholm Farm Rd\, Wells\, ME.
UID:e.1923.9891
SEQUENCE:3
DTSTAMP:20260425T143124Z
URL:https://chamber.gokennebunks.com/events/details/bird-banding-demonstration-9891
END:VEVENT

END:VCALENDAR
