BEGIN:VCALENDAR
VERSION:2.0
PRODID:-//ChamberMaster//Event Calendar 2.0//EN
METHOD:PUBLISH
X-PUBLISHED-TTL:P3D
REFRESH-INTERVAL:P3D
CALSCALE:GREGORIAN
BEGIN:VEVENT
DTSTART:20190728T223000Z
DTEND:20190729T010000Z
X-MICROSOFT-CDO-ALLDAYEVENT:FALSE
SUMMARY:Billy the Squid and the Sea Cow Drifters
DESCRIPTION:Rockabilly meets Outlaw Country meets Surf Rock with a bit of nostalgia and a ton of fun. Billy the Squid and the Sea Cow Drifters are a regular at the world famous Sloppy Joe's in Key West. Billy and the boys spend their summers visiting their worldwide audience in their favorite places. How lucky are we they chose us for their Maine stop? These boys really know to bring the house down\, you will not want to miss this special appearance. Come enjoy your Sunday Funday and don't be afraid to dance in the barn we made sure to clear a dance floor for you!
X-ALT-DESC;FMTTYPE=text/html:Rockabilly meets Outlaw Country meets Surf Rock with a bit of nostalgia and a ton of fun. Billy the Squid and the Sea Cow Drifters are a regular at the world famous Sloppy Joe&#39\;s in Key West. Billy and the boys spend their summers visiting their worldwide audience in their favorite places. How lucky are we they chose us for their Maine stop? These boys really know to bring the house down\, you will not want to miss this special appearance. Come enjoy your Sunday Funday and don&#39\;t be afraid to dance in the barn we made sure to clear a dance floor for you!
LOCATION:Vinegar Hill Music Theatre 53 Old Post Rd. Arundel\, ME 04046
UID:e.1923.13123
SEQUENCE:3
DTSTAMP:20260424T183351Z
URL:https://chamber.gokennebunks.com/events/details/billy-the-squid-and-the-sea-cow-drifters-13123
END:VEVENT

END:VCALENDAR
