BEGIN:VCALENDAR
VERSION:2.0
PRODID:-//ChamberMaster//Event Calendar 2.0//EN
METHOD:PUBLISH
X-PUBLISHED-TTL:P3D
REFRESH-INTERVAL:P3D
CALSCALE:GREGORIAN
BEGIN:VEVENT
DTSTART:20241005T000000Z
DTEND:20241005T020000Z
X-MICROSOFT-CDO-ALLDAYEVENT:FALSE
SUMMARY:Big Yellow Taxi - The Music of Joni Mitchell
DESCRIPTION:GA Seated: $25 Advance | $35 Door\n\nFood Truck 6pm\n\nDoors 7pm | Show 8pm\n\n \n\n \n\nJoin us for food and drinks before the show in our outdoor garden starting at 6pm! \n\nThe night's food truck is Terra Firma!\n\n \n\nBig Yellow Taxi was created to explore Joni Mitchell's music\; from its early folk roots to her pop masterpieces and jazz influenced compositions. The lead vocalist\, Teresa\, pays homage to Joni's sweet\, husky\, and bell-like voice delivering an emotional journey through Joni's expansive catalog. The mission of the band is to present a show that immerses the audience in an intimate journey through many of Joni's best loved and most powerful songs. A performance beyond mere imitation\, that delves into Joni's musical intensity and genius\, leaving audiences entertained\, moved\, and elated.
X-ALT-DESC;FMTTYPE=text/html:<h4>GA Seated: $25 Advance | $35 Door</h4>\n\n<h4>Food Truck 6pm</h4>\n\n<h4>Doors 7pm | Show 8pm</h4>\n\n<h4>&nbsp\;</h4>\n\n<p>&nbsp\;</p>\n\n<p>Join us for food and drinks before the show in our outdoor garden starting at&nbsp\;<strong>6pm!</strong>&nbsp\;</p>\n\n<p>The night&rsquo\;s food truck is Terra Firma!</p>\n\n<p>&nbsp\;</p>\n\n<p><strong>Big Yellow Taxi </strong>was created to explore Joni Mitchell&#39\;s music\; from its early folk roots to her pop masterpieces and jazz influenced compositions. The lead vocalist\, Teresa\, pays homage to Joni&#39\;s sweet\, husky\, and bell-like voice delivering an emotional journey through Joni&#39\;s expansive catalog. The mission of the band is to present a show that immerses the audience in an intimate journey through many of Joni&#39\;s best loved and most powerful songs. A performance beyond mere imitation\, that delves into Joni&rsquo\;s musical intensity and genius\, leaving audiences entertained\, moved\, and elated.</p>\n
LOCATION:Vinegar Hill Music Theatre 53 Old Post Road Arundel\, Maine 04046
UID:e.1923.29891
SEQUENCE:3
DTSTAMP:20260421T100433Z
URL:https://chamber.gokennebunks.com/events/details/big-yellow-taxi-the-music-of-joni-mitchell-29891
END:VEVENT

END:VCALENDAR
