BEGIN:VCALENDAR
VERSION:2.0
PRODID:-//ChamberMaster//Event Calendar 2.0//EN
METHOD:PUBLISH
X-PUBLISHED-TTL:P3D
REFRESH-INTERVAL:P3D
CALSCALE:GREGORIAN
BEGIN:VEVENT
DTSTART:20191122T101500Z
DTEND:20191122T213000Z
X-MICROSOFT-CDO-ALLDAYEVENT:FALSE
SUMMARY:Better Than Black Friday
DESCRIPTION:Come celebrate Black Friday one week early - oh\, and by the way\, wish Tiffany a HAPPY BIRTHDAY! We'll have a huge surprise sale\, free classes all day (sign up early!)\, champagne\, and of course cupcakes. This will be lit like a birthday candle!
X-ALT-DESC;FMTTYPE=text/html:Come celebrate Black Friday one week early - oh\, and by the way\, wish Tiffany a HAPPY BIRTHDAY! We'll have a huge surprise sale\, free classes all day (sign up early!)\, champagne\, and of course cupcakes. This will be lit like a birthday candle!
LOCATION:The Daily Sweat Yoga + Barre Studio 65 Portland RD Building A\, Unit D\, Kennebunk\, ME 04043
UID:e.1923.15484
SEQUENCE:3
DTSTAMP:20260424T124408Z
URL:https://chamber.gokennebunks.com/events/details/better-than-black-friday-15484
END:VEVENT

END:VCALENDAR
