BEGIN:VCALENDAR
VERSION:2.0
PRODID:-//ChamberMaster//Event Calendar 2.0//EN
METHOD:PUBLISH
X-PUBLISHED-TTL:P3D
REFRESH-INTERVAL:P3D
CALSCALE:GREGORIAN
BEGIN:VEVENT
DTSTART;VALUE=DATE:20231117
DTEND;VALUE=DATE:20231118
TRANSP:TRANSPARENT
X-MICROSOFT-CDO-ALLDAYEVENT:TRUE
SUMMARY:Better Than Black Friday
DESCRIPTION:$5 classes all day\, surprise sales\, new retail\, giveaways + more. AND to end the day\, a 60 minute surprise class\, followed by cupcakes + champagne starting at 4:30P!
X-ALT-DESC;FMTTYPE=text/html:$5 classes all day\, surprise sales\, new retail\, giveaways + more. AND to end the day\, a 60 minute surprise class\, followed by cupcakes + champagne starting at 4:30P!
LOCATION:The Daily Sweat 65 Portland Rd Building A Unit D\, Kennebunk\, ME 04043
UID:e.1923.23051
SEQUENCE:3
DTSTAMP:20260421T232447Z
URL:https://chamber.gokennebunks.com/events/details/better-than-black-friday-11-17-2023-23051
END:VEVENT

END:VCALENDAR
