BEGIN:VCALENDAR
VERSION:2.0
PRODID:-//ChamberMaster//Event Calendar 2.0//EN
METHOD:PUBLISH
X-PUBLISHED-TTL:P3D
REFRESH-INTERVAL:P3D
CALSCALE:GREGORIAN
BEGIN:VEVENT
DTSTART:20180630T140000Z
DTEND:20180719T210000Z
X-MICROSOFT-CDO-ALLDAYEVENT:FALSE
SUMMARY:Bethany Harper Williams and David Witbeck Show
DESCRIPTION:Art Show for Bethany Harper Williams and David Witbeck Artist Reception June 30th 5 PM to 7 PM
X-ALT-DESC;FMTTYPE=text/html:Art Show for Bethany Harper Williams and David Witbeck Artist Reception June 30th 5 PM to 7 PM
LOCATION:Sows at Maine Art Hill
UID:e.1923.9787
SEQUENCE:3
DTSTAMP:20260425T132705Z
URL:https://chamber.gokennebunks.com/events/details/bethany-harper-williams-and-david-witbeck-show-9787
END:VEVENT

END:VCALENDAR
