BEGIN:VCALENDAR
VERSION:2.0
PRODID:-//ChamberMaster//Event Calendar 2.0//EN
METHOD:PUBLISH
X-PUBLISHED-TTL:P3D
REFRESH-INTERVAL:P3D
CALSCALE:GREGORIAN
BEGIN:VEVENT
DTSTART;VALUE=DATE:20250501
DTEND;VALUE=DATE:20250502
TRANSP:TRANSPARENT
X-MICROSOFT-CDO-ALLDAYEVENT:TRUE
SUMMARY:Bentleys Saloon- Karaoke! Every Thursday with Rotating Dj's!
DESCRIPTION:7-10 pm in the back bar or outside when the weather is good! Come show off your stuff or just relax and enjoy the show!
X-ALT-DESC;FMTTYPE=text/html:7-10 pm in the back bar or outside when the weather is good! Come show off your stuff or just relax and enjoy the show!
LOCATION:1601 Portland Road\, Arundel ME 04046
UID:e.1923.34362
SEQUENCE:3
DTSTAMP:20260421T045817Z
URL:https://chamber.gokennebunks.com/events/details/bentleys-saloon-karaoke-every-thursday-with-rotating-dj-s-34362
END:VEVENT

END:VCALENDAR
