BEGIN:VCALENDAR
VERSION:2.0
PRODID:-//ChamberMaster//Event Calendar 2.0//EN
METHOD:PUBLISH
X-PUBLISHED-TTL:P3D
REFRESH-INTERVAL:P3D
CALSCALE:GREGORIAN
BEGIN:VEVENT
DTSTART;VALUE=DATE:20250607
DTEND;VALUE=DATE:20250608
TRANSP:TRANSPARENT
X-MICROSOFT-CDO-ALLDAYEVENT:TRUE
SUMMARY:Bentleys Saloon and Lone Pine Brewing - Cornhole!
DESCRIPTION:Pre-register on ScoreHolio
X-ALT-DESC;FMTTYPE=text/html:Pre-register on ScoreHolio
LOCATION:1601 Portland Road\, Arundel ME 04046
UID:e.1923.34563
SEQUENCE:3
DTSTAMP:20260421T062345Z
URL:https://chamber.gokennebunks.com/events/details/bentleys-saloon-and-lone-pine-brewing-cornhole-06-07-2025-34563
END:VEVENT

END:VCALENDAR
