BEGIN:VCALENDAR
VERSION:2.0
PRODID:-//ChamberMaster//Event Calendar 2.0//EN
METHOD:PUBLISH
X-PUBLISHED-TTL:P3D
REFRESH-INTERVAL:P3D
CALSCALE:GREGORIAN
BEGIN:VEVENT
DTSTART:20220729T220000Z
DTEND:20220730T000000Z
X-MICROSOFT-CDO-ALLDAYEVENT:FALSE
SUMMARY:barre + bonfire
DESCRIPTION:let's heat up a mid summer evening! grab your fav shake pals and join us for a night on the beach. we'll start with class + end with a bonfire by the ocean. drinks + snacks provided. please bring your mat\, water + a beach chair to sit in after class. $25/non-member\, $5/members.
X-ALT-DESC;FMTTYPE=text/html:let&rsquo\;s heat up a mid summer evening! grab your fav shake pals and join us for a night on the beach. we&#39\;ll start with class + end with a bonfire by the ocean. drinks + snacks provided. please bring your mat\, water + a beach chair to sit in after class. $25/non-member\, $5/members.
LOCATION:Mother's Beach
UID:e.1923.17538
SEQUENCE:3
DTSTAMP:20260419T175443Z
URL:https://chamber.gokennebunks.com/events/details/barre-bonfire-07-29-2022-17538
END:VEVENT

END:VCALENDAR
