BEGIN:VCALENDAR
VERSION:2.0
PRODID:-//ChamberMaster//Event Calendar 2.0//EN
METHOD:PUBLISH
X-PUBLISHED-TTL:P3D
REFRESH-INTERVAL:P3D
CALSCALE:GREGORIAN
BEGIN:VEVENT
DTSTART:20240712T220000Z
DTEND:20240712T230000Z
X-MICROSOFT-CDO-ALLDAYEVENT:FALSE
SUMMARY:barre + bonfire
DESCRIPTION:let's heat up a mid summer evening! grab your fav shake pals and join us for a night on the beach. we'll start with class + end with a bonfire by the ocean. drinks + snacks provided. please bring your mat\, water + a beach chair to sit in after class. $25/non-member\, $5/members.
X-ALT-DESC;FMTTYPE=text/html:<span style="color:rgb(0\, 0\, 0)\; font-family:arial">let&rsquo\;s heat up a mid summer evening! grab your fav shake pals and join us for a night on the beach. we&#39\;ll start with class + end with a bonfire by the ocean. drinks + snacks provided. please bring your mat\, water + a beach chair to sit in after class. $25/non-member\, $5/members.</span>
LOCATION:Narragansett Point
UID:e.1923.25418
SEQUENCE:3
DTSTAMP:20260421T140121Z
URL:https://chamber.gokennebunks.com/events/details/barre-bonfire-07-12-2024-25418
END:VEVENT

END:VCALENDAR
