BEGIN:VCALENDAR
VERSION:2.0
PRODID:-//ChamberMaster//Event Calendar 2.0//EN
METHOD:PUBLISH
X-PUBLISHED-TTL:P3D
REFRESH-INTERVAL:P3D
CALSCALE:GREGORIAN
BEGIN:VEVENT
DTSTART:20250720T210000Z
DTEND:20250720T221500Z
X-MICROSOFT-CDO-ALLDAYEVENT:FALSE
SUMMARY:Baroque Masterworks Concert at St. Ann's Kennebunkport
DESCRIPTION:St. Ann's Kennebunkport 2025 Benefit Concert -- July 20\, 5:00 to 6:15pm \n\nSt. Ann's By The Sea in Kennebunkport\, ME will be hosting an exciting concert of Baroque Masterworks in the oceanfront Stone Chapel. Directed by Ian Watson\, the performance will feature world-class musicians playing authentic period instruments. The public is invited to hear this memorable performance in a spectacular setting. Proceeds will benefit the St. Ann's Church preservation fund.  \n\nProgram to be performed on baroque violins\, violas\, cello\, bass and harpsichord: \n\n\n	Concerto in D major\, Op. 6\, No.12 by Evaristo Dall'Abaco\n	Concerto Grosso in E minor\, Op. 3\, No. 3 by Francesco Geminiani\n	The Four Seasons by Antonio Vivaldi
X-ALT-DESC;FMTTYPE=text/html:<p><strong>St. Ann&#39\;s Kennebunkport 2025 Benefit Concert -- July 20\, 5:00 to 6:15pm&nbsp\;</strong></p>\n\n<p>St. Ann&rsquo\;s By The Sea in Kennebunkport\, ME will be hosting an exciting concert of&nbsp\;<strong>Baroque Masterworks</strong> in the oceanfront Stone Chapel.&nbsp\;Directed by Ian Watson\, the performance will feature world-class musicians playing authentic period instruments.&nbsp\;The public is invited to hear this memorable performance in a spectacular setting. Proceeds will benefit the St. Ann&rsquo\;s Church preservation fund. &nbsp\;</p>\n\n<p>Program to be performed on baroque violins\, violas\, cello\, bass and harpsichord:&nbsp\;</p>\n\n<ul>\n	<li>Concerto in D major\, Op. 6\, No.12 by Evaristo Dall&rsquo\;Abaco</li>\n	<li>Concerto Grosso in E minor\, Op. 3\, No. 3 by Francesco Geminiani</li>\n	<li>The Four Seasons by Antonio Vivaldi</li>\n</ul>\n
LOCATION:167 Ocean Ave\, Kennebunkport\, ME 04046
UID:e.1923.33340
SEQUENCE:3
DTSTAMP:20260421T140354Z
URL:https://chamber.gokennebunks.com/events/details/baroque-masterworks-concert-at-st-ann-s-kennebunkport-33340
END:VEVENT

END:VCALENDAR
