BEGIN:VCALENDAR
VERSION:2.0
PRODID:-//ChamberMaster//Event Calendar 2.0//EN
METHOD:PUBLISH
X-PUBLISHED-TTL:P3D
REFRESH-INTERVAL:P3D
CALSCALE:GREGORIAN
BEGIN:VEVENT
DTSTART:20230720T140000Z
DTEND:20230720T150000Z
X-MICROSOFT-CDO-ALLDAYEVENT:FALSE
SUMMARY:BANJO JIMMY
DESCRIPTION:Thursday\, July 20\, 10 AM. Banjo Jimmy. Louis T. Graves Memorial Public Library\, 18 Maine Street\, Kennebunkport. The groovy events continue for our summer reading program\, join us to sing along with Banjo Jimmy as he performs some Beatles tunes and other family favorites! There will also be a musical craft for kids. All ages are welcome to this rain or shine event. Pre-registration is required. For further information\, please call 967-2778 or visit our website at www.graveslibrary.org.
X-ALT-DESC;FMTTYPE=text/html:Thursday\, July 20\, 10 AM. Banjo Jimmy. Louis T. Graves Memorial Public Library\, 18 Maine Street\, Kennebunkport. The groovy events continue for our summer reading program\, join us to sing along with Banjo Jimmy as he performs some Beatles tunes and other family favorites! There will also be a musical craft for kids. All ages are welcome to this rain or shine event. Pre-registration is required. For further information\, please call 967-2778 or visit our website at www.graveslibrary.org.
LOCATION:Louis T. Graves Memorial Public Library\, 18 Maine Street\, Kennebunkport.
UID:e.1923.20888
SEQUENCE:3
DTSTAMP:20260422T050153Z
URL:https://chamber.gokennebunks.com/events/details/banjo-jimmy-20888
END:VEVENT

END:VCALENDAR
