BEGIN:VCALENDAR
VERSION:2.0
PRODID:-//ChamberMaster//Event Calendar 2.0//EN
METHOD:PUBLISH
X-PUBLISHED-TTL:P3D
REFRESH-INTERVAL:P3D
CALSCALE:GREGORIAN
BEGIN:VEVENT
DTSTART:20240725T143000Z
DTEND:20240725T153000Z
X-MICROSOFT-CDO-ALLDAYEVENT:FALSE
SUMMARY:BANJO JIMMY
DESCRIPTION:Thursday\, July 25 at 10:30 AM. Banjo Jimmy. The groovy events continue for our summer reading program. Join us in singing along with Banjo Jimmy as he performs some Beatles tunes and other family favorites! There will also be a musical craft for kids. All ages are welcome to this rain-or-shine event. Pre-registration is required. The Louis T. Graves Memorial Public Library is located at 18 Maine Street\, Kennebunkport. For further information\, please call 967-2778 and ask for the Junior Room or visit www.graveslibrary.org.
X-ALT-DESC;FMTTYPE=text/html:<span style="font-family:arial\,sans-serif">Thursday\, July 25 at 10:30 AM. <strong>Banjo Jimmy</strong>. The groovy events continue for our summer reading program. Join us in singing along with Banjo Jimmy as he performs some Beatles tunes and other family favorites! There will also be a musical craft for kids. All ages are welcome to this rain-or-shine event. Pre-registration is required. </span><span style="font-family:arial\,sans-serif">The Louis T. Graves Memorial Public Library is located at 18 Maine Street\, Kennebunkport. For further information\, please call 967-2778 and ask for the Junior Room or visit </span><a href="http://www.graveslibrary.org/"><span style="color:windowtext"><span style="font-family:arial\,sans-serif">www.graveslibrary.org</span></span></a><span style="font-family:arial\,sans-serif">.</span>
LOCATION:The Louis T. Graves Memorial Public Library is located at 18 Maine Street\, Kennebunkport. For further information\, please call 967-2778 and ask for the Junior Room or visit www.graveslibrary.org.
UID:e.1923.25406
SEQUENCE:3
DTSTAMP:20260421T124202Z
URL:https://chamber.gokennebunks.com/events/details/banjo-jimmy-07-25-2024-25406
END:VEVENT

END:VCALENDAR
