BEGIN:VCALENDAR
VERSION:2.0
PRODID:-//ChamberMaster//Event Calendar 2.0//EN
METHOD:PUBLISH
X-PUBLISHED-TTL:P3D
REFRESH-INTERVAL:P3D
CALSCALE:GREGORIAN
BEGIN:VEVENT
DTSTART:20250724T143000Z
DTEND:20250724T153000Z
X-MICROSOFT-CDO-ALLDAYEVENT:FALSE
SUMMARY:BANJO JIMMY
DESCRIPTION:Thursday\, July 24\, from 10:30-11:30 AM. Banjo Jimmy. Join us in singing along with Banjo Jimmy as he performs some adventure tunes and other family favorites! All ages are welcome to this rain-or-shine event. Pre-registration is required. Parking is available on Maine Street or at the Village Fire Station on North Street. The Louis T. Graves Memorial Public Library is located at 18 Maine Street\, Kennebunkport. For further information\, please call 207-967-2778 and ask for the Junior Room or visit www.graveslibrary.org.
X-ALT-DESC;FMTTYPE=text/html:<span style="font-family:arial\,sans-serif">Thursday\, July 24\, from 10:30-11:30 AM. <strong>Banjo Jimmy</strong>. Join us in singing along with Banjo Jimmy as he performs some adventure tunes and other family favorites! All ages are welcome to this rain-or-shine event. Pre-registration is required. Parking is available on Maine Street or at the Village Fire Station on North Street. The Louis T. Graves Memorial Public Library is located at 18 Maine Street\, Kennebunkport. For further information\, please call 207-967-2778 and ask for the Junior Room or visit www.graveslibrary.org.</span>
LOCATION:The Louis T. Graves Memorial Public Library is located at 18 Maine Street\, Kennebunkport. For further information\, please call 207-967-2778 and ask for the Junior Room or visit www.graveslibrary.org.
UID:e.1923.37534
SEQUENCE:3
DTSTAMP:20260421T073327Z
URL:https://chamber.gokennebunks.com/events/details/banjo-jimmy-07-24-2025-37534
END:VEVENT

END:VCALENDAR
