BEGIN:VCALENDAR
VERSION:2.0
PRODID:-//ChamberMaster//Event Calendar 2.0//EN
METHOD:PUBLISH
X-PUBLISHED-TTL:P3D
REFRESH-INTERVAL:P3D
CALSCALE:GREGORIAN
BEGIN:VEVENT
DTSTART:20190510T200000Z
DTEND:20190511T020000Z
X-MICROSOFT-CDO-ALLDAYEVENT:FALSE
SUMMARY:Banded Brewing Taps to Benefit Special Surfers
DESCRIPTION:Join us for the release of Banded Brewing Surf Logger (Lager)\, with multiple other Banded beers on tap! $2 from every beer sold tonight will be given to Maine's Special Surfers. This is a free and family friendly event\, with our full regular menu being served. Special Surfers is a non-profit organization that provides the opportunity for people with special needs to surf.
X-ALT-DESC;FMTTYPE=text/html:Join us for the release of Banded Brewing Surf Logger (Lager)\, with multiple other Banded beers on tap! $2 from every beer sold tonight will be given to Maine&#39\;s Special Surfers. This is a free and family friendly event\, with our full regular menu being served. Special Surfers is a non-profit organization that provides the opportunity for people with special needs to surf.
LOCATION:
UID:e.1923.13149
SEQUENCE:3
DTSTAMP:20260424T210503Z
URL:https://chamber.gokennebunks.com/events/details/banded-brewing-taps-to-benefit-special-surfers-13149
END:VEVENT

END:VCALENDAR
