BEGIN:VCALENDAR
VERSION:2.0
PRODID:-//ChamberMaster//Event Calendar 2.0//EN
METHOD:PUBLISH
X-PUBLISHED-TTL:P3D
REFRESH-INTERVAL:P3D
CALSCALE:GREGORIAN
BEGIN:VEVENT
DTSTART:20190223T220000Z
DTEND:20190224T020000Z
X-MICROSOFT-CDO-ALLDAYEVENT:FALSE
SUMMARY:Banded Brewing Co.: Tap Takeover + Beer Dinner at The Burleigh
DESCRIPTION:Join us for our very popular Tap Takeover & Beer Dinner\, this time with Biddeford's own Banded Brewing Co. Start the night right with a few welcome brews and bites in the Bar from 5pm to 6:30pm\; then head into the restaurant for a four-course dinner\, paired with 4 of Banded Brewing Co.'s most popular beers. *Dinner is open to adults 21 years of age or older. Proper ID is required at door.\n\n\n\nPurchase Tickets to Banded Brewing Tap Takeover + Beer Dinner
X-ALT-DESC;FMTTYPE=text/html:<span style="color:rgb(68\, 68\, 68)\; font-family:lato\; font-size:16px">Join us for our very popular Tap Takeover &amp\; Beer Dinner\, this time with Biddeford&rsquo\;s own&nbsp\;</span><em>Banded Brewing Co</em><span style="color:rgb(68\, 68\, 68)\; font-family:lato\; font-size:16px">. Start the night right with a few welcome brews and bites in the Bar from 5pm to 6:30pm\; then head into the restaurant for a four-course dinner\, paired with 4 of Banded Brewing Co.&rsquo\;s most popular beers.&nbsp\;*Dinner is open to adults 21 years of age or older. Proper ID is required at door.</span><br />\n<br />\n<a href="https://www.eventbrite.com/e/banded-brewing-co-beer-dinner-at-the-burleigh-tickets-54095549244"><span style="color:#FF0000"><span style="font-family:lato\; font-size:16px">Purchase Tickets to Banded Brewing Tap Takeover + Beer Dinner</span></span></a>
LOCATION:The Burleigh at Kennebunkport Inn One Dock Square | Kennebunkport
UID:e.1923.12854
SEQUENCE:3
DTSTAMP:20260425T013112Z
URL:https://chamber.gokennebunks.com/events/details/banded-brewing-co-tap-takeover-beer-dinner-at-the-burleigh-12854
END:VEVENT

END:VCALENDAR
