BEGIN:VCALENDAR
VERSION:2.0
PRODID:-//ChamberMaster//Event Calendar 2.0//EN
METHOD:PUBLISH
X-PUBLISHED-TTL:P3D
REFRESH-INTERVAL:P3D
CALSCALE:GREGORIAN
BEGIN:VEVENT
DTSTART;VALUE=DATE:20190802
DTEND;VALUE=DATE:20190803
TRANSP:TRANSPARENT
X-MICROSOFT-CDO-ALLDAYEVENT:TRUE
SUMMARY:Band and Tap Takeover
DESCRIPTION:Garden Street Bowl will be having the Nomadic Grooves band Starting at 8pm on August 2nd\n\nWe will be also having  Brews by Maine Beer Co. introducing beers at 5pm on August 2nd
X-ALT-DESC;FMTTYPE=text/html:Garden Street Bowl will be having the Nomadic Grooves band Starting at 8pm on August 2nd<br />\nWe will be also having &nbsp\;Brews by Maine Beer Co. introducing beers at 5pm on August 2nd
LOCATION:
UID:e.1923.13387
SEQUENCE:3
DTSTAMP:20260424T165521Z
URL:https://chamber.gokennebunks.com/events/details/band-and-tap-takeover-13387
END:VEVENT

END:VCALENDAR
