BEGIN:VCALENDAR
VERSION:2.0
PRODID:-//ChamberMaster//Event Calendar 2.0//EN
METHOD:PUBLISH
X-PUBLISHED-TTL:P3D
REFRESH-INTERVAL:P3D
CALSCALE:GREGORIAN
BEGIN:VEVENT
DTSTART:20190727T202500Z
DTEND:20190727T220000Z
X-MICROSOFT-CDO-ALLDAYEVENT:FALSE
SUMMARY:Baked Bean & Chop Suey Supper
DESCRIPTION:Monthly supper which includes choice of hot dogs or American chopped suiey. Includes dessert and beverage.
X-ALT-DESC;FMTTYPE=text/html:Monthly supper which includes choice of hot dogs or American chopped suiey. Includes dessert and beverage.
LOCATION:First Congregational Church\, Kennebunkport
UID:e.1923.13398
SEQUENCE:3
DTSTAMP:20260424T194503Z
URL:https://chamber.gokennebunks.com/events/details/baked-bean-chop-suey-supper-13398
END:VEVENT

END:VCALENDAR
