BEGIN:VCALENDAR
VERSION:2.0
PRODID:-//ChamberMaster//Event Calendar 2.0//EN
METHOD:PUBLISH
X-PUBLISHED-TTL:P3D
REFRESH-INTERVAL:P3D
CALSCALE:GREGORIAN
BEGIN:VEVENT
DTSTART:20240607T140000Z
DTEND:20240607T180000Z
X-MICROSOFT-CDO-ALLDAYEVENT:FALSE
SUMMARY:Bags\, Baubles & Bubbly VIP Shopping
DESCRIPTION:Our beloved Baubles & Bubbly event returns this year! Join us for Sip and shop at the Center! Browse our extensive collection of designer handbags\, jewelry\, and accessories. Tickets are $25 and can be purchased in advance at the Center in lower village.
X-ALT-DESC;FMTTYPE=text/html:Our beloved Baubles &amp\; Bubbly event returns this year! Join us for Sip and shop at the Center!&nbsp\;Browse our extensive collection of designer handbags\, jewelry\, and accessories. Tickets are $25 and can be purchased in advance at the Center in lower village.
LOCATION:The Center 175 Port Road Kennebunk\, ME 04043
UID:e.1923.24609
SEQUENCE:3
DTSTAMP:20260421T140436Z
URL:https://chamber.gokennebunks.com/events/details/bags-baubles-bubbly-vip-shopping-06-07-2024-24609
END:VEVENT

END:VCALENDAR
