BEGIN:VCALENDAR
VERSION:2.0
PRODID:-//ChamberMaster//Event Calendar 2.0//EN
METHOD:PUBLISH
X-PUBLISHED-TTL:P3D
REFRESH-INTERVAL:P3D
CALSCALE:GREGORIAN
BEGIN:VEVENT
DTSTART:20230511T200000Z
DTEND:20230511T230000Z
X-MICROSOFT-CDO-ALLDAYEVENT:FALSE
SUMMARY:Bags\, Baubles\, & Bubbly
DESCRIPTION:Celebrate the return of this beloved event with us! We will have bubbly (both alcoholic and not) and small bites so you can snack while you shop our wide variety of designer handbags and accessories. Tickets are just $25.00. Want to get a jump on the competition? VIP tickets are $50 and entitle you to an hour's head start at our sale*.\n\n\n\n*only 25 VIP tickets will be sold
X-ALT-DESC;FMTTYPE=text/html:Celebrate the return of this beloved event with us! We will have bubbly (both alcoholic and not) and small bites so you can snack while you shop our wide variety of designer handbags and accessories.&nbsp\;Tickets are just $25.00. Want to get a jump on the competition? VIP tickets are $50 and entitle you to an hour&#39\;s head start at our sale*.<br />\n<br />\n*only 25 VIP tickets will be sold&nbsp\;
LOCATION:The Community House Kennebunkport\, ME
UID:e.1923.18562
SEQUENCE:3
DTSTAMP:20260424T101028Z
URL:https://chamber.gokennebunks.com/events/details/bags-baubles-bubbly-18562
END:VEVENT

END:VCALENDAR
