BEGIN:VCALENDAR
VERSION:2.0
PRODID:-//ChamberMaster//Event Calendar 2.0//EN
METHOD:PUBLISH
X-PUBLISHED-TTL:P3D
REFRESH-INTERVAL:P3D
CALSCALE:GREGORIAN
BEGIN:VEVENT
DTSTART:20240808T170000Z
DTEND:20240808T180000Z
X-MICROSOFT-CDO-ALLDAYEVENT:FALSE
SUMMARY:AUTHORS MAURREN LEE & JENNIFER COOLEY
DESCRIPTION:Thursday\, August 8 at 1:00 PM. Authors Maureen Lee and Jennifer Cooley. Toby is back in a new book from the Happy Puppy Adventure Series. Join the mother-daughter team for a fun story! Maureen Lee and Jennifer Cooley\, authors of the children's series A Puppy in Maine\, will be at the Graves Library. Copies of the book will be available for sale and signing. Pre-registration is encouraged. The Louis T. Graves Memorial Public Library is located at 18 Maine Street\, Kennebunkport. For further information\, please call 967-2778 and ask for the Junior Room or visit www.graveslibrary.org.
X-ALT-DESC;FMTTYPE=text/html:<span style="font-family:arial\,sans-serif">Thursday\, August 8 at 1:00 PM. <strong>Authors Maureen Lee and Jennifer Cooley</strong>. Toby is back in a new book from the Happy Puppy Adventure Series. Join the mother-daughter team for a fun story! </span><span style="font-family:arial\,sans-serif">Maureen Lee and Jennifer Cooley\, authors of the children&rsquo\;s series A Puppy in Maine\, will be at the Graves Library. Copies of the book will be available for sale and signing. Pre-registration is encouraged. The Louis T. Graves Memorial Public Library is located at 18 Maine Street\, Kennebunkport. For further information\, please call 967-2778 and ask for the Junior Room or visit </span><a href="http://www.graveslibrary.org/"><span style="color:windowtext"><span style="font-family:arial\,sans-serif">www.graveslibrary.org</span></span></a><span style="font-family:arial\,sans-serif">.</span>
LOCATION:The Louis T. Graves Memorial Public Library is located at 18 Maine Street\, Kennebunkport. For further information\, please call 967-2778 and ask for the Junior Room or visit www.graveslibrary.org.
UID:e.1923.25412
SEQUENCE:3
DTSTAMP:20260421T124203Z
URL:https://chamber.gokennebunks.com/events/details/authors-maurren-lee-jennifer-cooley-25412
END:VEVENT

END:VCALENDAR
