BEGIN:VCALENDAR
VERSION:2.0
PRODID:-//ChamberMaster//Event Calendar 2.0//EN
METHOD:PUBLISH
X-PUBLISHED-TTL:P3D
REFRESH-INTERVAL:P3D
CALSCALE:GREGORIAN
BEGIN:VEVENT
DTSTART:20240518T180000Z
DTEND:20240518T193000Z
X-MICROSOFT-CDO-ALLDAYEVENT:FALSE
SUMMARY:AUTHORS CARL & DAVID LITTLE
DESCRIPTION:Saturday\, May 18\, 2 PM. Authors Carl & David Little. The Patsy Bray Mahoney Lecture Series Presents Carl and David Little. For "Art of Penobscot Bay" brothers David and Carl Little\, well-known stewards of Maine art\, have selected art and artists from history and today that celebrate the myriad of inlets\, islands\, coves\, and peninsulas the "nooks and corners" of the region. Above all\, they sought art infused with a remarkable representation of place by more than 120 artists who have embraced the area and its people. "Art of Penobscot Bay" includes artists from the 19th century through the 21st century\, including Fitz Henry Lane\, Waldo Peirce\, Edward Hopper\, William Zorach\, John Marin\, Emily Muir\, Greta Van Campen\, Alex Katz\, Eric Hopkins\, and Amy Peters Wood. The art takes readers on a wondrous visual journey around\, across\, and through a breathtaking bay. Copies of the book will be available for sale and signing after the event. The Graves Library Snack Team will provide light refreshments. Parking is available along Maine Street\, the North Street Fire Station Parking Lot\, and Consolidated School (Route 9). Please enter through the white door in the Parking Lot. The Louis T. Graves Memorial Public Library is at 18 Maine Street\, Kennebunkport. For further information\, please call 967-2778 or visit our website at www.graveslibrary.org.
X-ALT-DESC;FMTTYPE=text/html:<span style="font-family:arial\,sans-serif"><span style="font-size:12.0pt">Saturday\, May 18\, 2 PM. <strong>Authors Carl &amp\; David Little</strong>. The Patsy Bray Mahoney Lecture Series Presents Carl and David Little. For &ldquo\;Art of Penobscot Bay&rdquo\; brothers David and Carl Little<strong>\,</strong> well-known stewards of Maine art\, have selected art and artists from history and today that celebrate the myriad of inlets\, islands\, coves\, and peninsulas&mdash\;the &ldquo\;nooks and corners&rdquo\; of the region. Above all\, they sought art infused with a remarkable representation of place by more than 120 artists who have embraced the area and its people. &ldquo\;Art of Penobscot Bay&rdquo\; includes artists from the 19th century through the 21st century\, including Fitz Henry Lane\, Waldo Peirce\, Edward Hopper\, William Zorach\, John Marin\, Emily Muir\, Greta Van Campen\, Alex Katz\, Eric Hopkins\, and Amy Peters Wood. The art takes readers on a wondrous visual journey around\, across\, and through a breathtaking bay. Copies of the book will be available for sale and signing after the event. The Graves Library Snack Team will provide light refreshments. Parking is available along Maine Street\, the North Street Fire Station Parking Lot\, and Consolidated School (Route 9). Please enter through the white door in the Parking Lot. The Louis T. Graves Memorial Public Library is at 18 Maine Street\, Kennebunkport. For further information\, please call 967-2778 or visit our website at </span></span><a href="http://www.graveslibrary.org/"><span style="color:windowtext"><span style="font-family:arial\,sans-serif"><span style="font-size:12pt">www.graveslibrary.org</span></span></span></a><span style="font-family:arial\,sans-serif"><span style="font-size:12.0pt">.</span></span>
LOCATION:The Louis T. Graves Memorial Public Library is at 18 Maine Street\, Kennebunkport. For further information\, please call 967-2778 or visit our website at www.graveslibrary.org.
UID:e.1923.24626
SEQUENCE:3
DTSTAMP:20260421T153017Z
URL:https://chamber.gokennebunks.com/events/details/authors-carl-david-little-24626
END:VEVENT

END:VCALENDAR
