BEGIN:VCALENDAR
VERSION:2.0
PRODID:-//ChamberMaster//Event Calendar 2.0//EN
METHOD:PUBLISH
X-PUBLISHED-TTL:P3D
REFRESH-INTERVAL:P3D
CALSCALE:GREGORIAN
BEGIN:VEVENT
DTSTART:20240613T170000Z
DTEND:20240613T180000Z
X-MICROSOFT-CDO-ALLDAYEVENT:FALSE
SUMMARY:Author Talk with Holly Gamache and Steve Hrehovcik
DESCRIPTION:The emotional pain and confusion caused by loss can create unbearable sadness. In her new book Mr. Grievely   A Story of Grief and Love\, Holly Margeson Gamache provides a perceptive look at this difficult and heartbreaking time.\n\nInspired by her own experiences with grief\, Gamache has written about the feelings that follow such a life-changing moment.\n\nGamache expresses her ideas in verse to heighten the poignant rhythm of this personal and universal experience. The character\, Mr. Grievely\, becomes a powerful metaphor for navigating and processing grief.  Mr. Grievely creates an imaginary presence amidst the darkness as he takes the reader by the hand to reveal an illuminated and hopeful pathway to solace.  \n\nA resident of Wells\, Gamache has 40 years of experience as an educator. She said\, "We all\, at one time or another\, must inevitably face loss in our lives. Each person grieves uniquely.  I wrote the story to honor my parents\, and to provide a measure of hope and reassurance that we are never alone."\n\nThe 98-page book is illustrated in full color by award winning artist Steve Hrehovcik. Hrehovcik said\, "Holly's family and mine go back many years. When she asked me to illustrate her book\, I was moved and motivated by her sensitive descriptions of the journey we all take. To create a graphic expression of her ideas has been a great honor and privilege." Hrehovcik lives in Kennebunk and has illustrated more than a dozen children's books. He works in Pen and Ink\, acrylics and pastel.\n\nMr. Grievely   A Story of Grief and Love is available in paperback for $22.95 and hardcover for $34.00 on Amazon and at www.hollyhockinnovations.com. For more information about Holly and Steve's presentation\, contact the Center at (207) 967-8514.
X-ALT-DESC;FMTTYPE=text/html:<span style="font-family:times new roman\,serif"><span style="font-size:12.0pt">The emotional pain and confusion caused by loss can create unbearable sadness. In her new book <em>Mr. Grievely &ndash\; A Story of Grief and Love\, </em>Holly Margeson Gamache provides a perceptive look at this difficult and heartbreaking time.</span></span><br />\n<span style="font-family:times new roman\,serif"><span style="font-size:12.0pt">Inspired by her own experiences with grief\, Gamache has written about the feelings that follow such a life-changing moment.</span></span><br />\n<span style="font-family:times new roman\,serif"><span style="font-size:12.0pt">Gamache expresses her ideas in verse to heighten the poignant rhythm of this personal and universal experience. The character\, <em>Mr. Grievely</em>\, becomes a powerful metaphor for navigating and processing grief.&nbsp\; <em>Mr. Grievely </em>creates an imaginary presence amidst the darkness as he takes the reader by the hand to reveal an illuminated and hopeful pathway to solace.&nbsp\; </span></span><br />\n<span style="font-family:times new roman\,serif"><span style="font-size:12.0pt">A resident of Wells\, Gamache has 40 years of experience as an educator. She said\, &ldquo\;We all\, at one time or another\, must inevitably face loss in our lives. Each person grieves uniquely.&nbsp\; I wrote the story to honor my parents\, and to provide a measure of hope and reassurance that we are never alone.&rdquo\;</span></span><br />\n<span style="font-family:times new roman\,serif"><span style="font-size:12.0pt">The 98-page book is illustrated in full color by award winning artist Steve Hrehovcik. Hrehovcik said\, &ldquo\;Holly&rsquo\;s family and mine go back many years. When she asked me to illustrate her book\, I was moved and motivated by her sensitive descriptions of the journey we all take. To create a graphic expression of her ideas has been a great honor and privilege.&rdquo\; Hrehovcik lives in Kennebunk and has illustrated more than a dozen children&rsquo\;s books. He works in Pen and Ink\, acrylics and pastel.</span></span><br />\n<span style="font-family:times new roman\,serif"><span style="font-size:12.0pt">Mr. Grievely &ndash\; A Story of Grief and Love is available in paperback for $22.95 and hardcover for $34.00 on Amazon and at <a href="http://www.hollyhockinnovations.com/">www.hollyhockinnovations.com</a>. For more information about Holly and Steve&rsquo\;s presentation\, contact the Center at (207) 967-8514.</span></span>
LOCATION:The Center 175 Port Road Kennebunk\, ME 04043
UID:e.1923.25306
SEQUENCE:3
DTSTAMP:20260421T140259Z
URL:https://chamber.gokennebunks.com/events/details/author-talk-with-holly-gamache-and-steve-hrehovcik-25306
END:VEVENT

END:VCALENDAR
