BEGIN:VCALENDAR
VERSION:2.0
PRODID:-//ChamberMaster//Event Calendar 2.0//EN
METHOD:PUBLISH
X-PUBLISHED-TTL:P3D
REFRESH-INTERVAL:P3D
CALSCALE:GREGORIAN
BEGIN:VEVENT
DTSTART:20240626T220000Z
DTEND:20240626T233000Z
X-MICROSOFT-CDO-ALLDAYEVENT:FALSE
SUMMARY:AUTHOR SUSAN DOHERTY HANNAFORD
DESCRIPTION:Wednesday\, June 26 at 6 PM. Author Susan Doherty Hannaford. "Monday Rent Boy" is a literary mystery about boyhood friendship\, family secrecy\, shame\, divided loyalties\, and being a bystander. Above all\, it is about resilience\, a trait that is learned rather than inherited. All sale proceeds of the book will be donated to Graves Library. Light refreshments will be served. We hope to see you here! The Louis T. Graves Memorial Public Library is at 18 Maine Street\, Kennebunkport. For further information\, please call 967-2778 or visit our website at www.graveslibrary.org.
X-ALT-DESC;FMTTYPE=text/html:<p><span style="font-family:arial\,sans-serif\; font-size:10.5pt">Wednesday\, June 26 at 6 PM. <strong>Author Susan Doherty Hannaford. </strong>&ldquo\;Monday Rent Boy&rdquo\; is a literary mystery about boyhood friendship\, family secrecy\, shame\, divided loyalties\, and being a bystander. Above all\, it is about resilience\, a trait that is learned rather than inherited. All sale proceeds of the book will be donated to Graves Library. Light refreshments will be served. We hope to see you here! The Louis T. Graves Memorial Public Library is at 18 Maine Street\, Kennebunkport. For further information\, please call 967-2778 or visit our website at </span><a href="http://www.graveslibrary.org/"><span style="color:windowtext\; font-family:arial\,sans-serif\; font-size:10.5pt">www.graveslibrary.org</span></a><span style="font-family:arial\,sans-serif\; font-size:10.5pt">.</span></p>\n
LOCATION:18 Maine Street\, Kennebunkport
UID:e.1923.25278
SEQUENCE:3
DTSTAMP:20260421T140110Z
URL:https://chamber.gokennebunks.com/events/details/author-susan-doherty-hannaford-25278
END:VEVENT

END:VCALENDAR
