BEGIN:VCALENDAR
VERSION:2.0
PRODID:-//ChamberMaster//Event Calendar 2.0//EN
METHOD:PUBLISH
X-PUBLISHED-TTL:P3D
REFRESH-INTERVAL:P3D
CALSCALE:GREGORIAN
BEGIN:VEVENT
DTSTART:20170826T140000Z
DTEND:20170826T160000Z
X-MICROSOFT-CDO-ALLDAYEVENT:FALSE
SUMMARY:Author Signing with Mark Stein
DESCRIPTION:Come meet author\, screenwriter\, and playwright Mark Stein. He will be signing his latest book "Vice Capades: Sex\, Drugs\, and Bowling from the Pilgrims to the Present". Join us for good conversation\, coffee and donuts.
X-ALT-DESC;FMTTYPE=text/html:Come meet author\, screenwriter\, and playwright Mark Stein. He will be signing his latest book &quot\;Vice Capades: Sex\, Drugs\, and Bowling from the Pilgrims to the Present&quot\;. Join us for good conversation\, coffee and donuts.
LOCATION:Fine Print Booksellers
UID:e.1923.6928
SEQUENCE:3
DTSTAMP:20260426T035558Z
URL:https://chamber.gokennebunks.com/events/details/author-signing-with-mark-stein-6928
END:VEVENT

END:VCALENDAR
