BEGIN:VCALENDAR
VERSION:2.0
PRODID:-//ChamberMaster//Event Calendar 2.0//EN
METHOD:PUBLISH
X-PUBLISHED-TTL:P3D
REFRESH-INTERVAL:P3D
CALSCALE:GREGORIAN
BEGIN:VEVENT
DTSTART:20171007T140000Z
DTEND:20171007T160000Z
X-MICROSOFT-CDO-ALLDAYEVENT:FALSE
SUMMARY:Author Signing
DESCRIPTION:Author Susan Doherty Hannaford will be signing "A Secret Music"\, winner of the Grace Irwin Prize in 2016.
X-ALT-DESC;FMTTYPE=text/html:Author Susan Doherty Hannaford will be signing &quot\;A Secret Music&quot\;\, winner of the Grace Irwin Prize in 2016.
LOCATION:Fine Print Booksellers Port Walk Dock Square\, Kennebunkport
UID:e.1923.6940
SEQUENCE:3
DTSTAMP:20260422T083833Z
URL:https://chamber.gokennebunks.com/events/details/author-signing-6940
END:VEVENT

END:VCALENDAR
