BEGIN:VCALENDAR
VERSION:2.0
PRODID:-//ChamberMaster//Event Calendar 2.0//EN
METHOD:PUBLISH
X-PUBLISHED-TTL:P3D
REFRESH-INTERVAL:P3D
CALSCALE:GREGORIAN
BEGIN:VEVENT
DTSTART:20171209T170000Z
DTEND:20171209T190000Z
X-MICROSOFT-CDO-ALLDAYEVENT:FALSE
SUMMARY:Author Signing
DESCRIPTION:Meet author Bruce Coffin as he signs copies of his latest book "Beneath the Depths" in the Detective Byron series. Coffin\, a retired detective sergeant from Portland Maine\, sets the series in Portland and surrounding areas. A must read for Mainers!
X-ALT-DESC;FMTTYPE=text/html:Meet author Bruce Coffin as he signs copies of his latest book &quot\;Beneath the Depths&quot\; in the Detective Byron series. Coffin\, a retired detective sergeant from Portland Maine\, sets the series in Portland and surrounding areas. A must read for Mainers!
LOCATION:Fine Print Booksellers Dock Square\, Kennebunkport\, Me.
UID:e.1923.6986
SEQUENCE:3
DTSTAMP:20260425T222522Z
URL:https://chamber.gokennebunks.com/events/details/author-signing-12-09-2017-6986
END:VEVENT

END:VCALENDAR
