BEGIN:VCALENDAR
VERSION:2.0
PRODID:-//ChamberMaster//Event Calendar 2.0//EN
METHOD:PUBLISH
X-PUBLISHED-TTL:P3D
REFRESH-INTERVAL:P3D
CALSCALE:GREGORIAN
BEGIN:VEVENT
DTSTART:20171203T190000Z
DTEND:20171203T210000Z
X-MICROSOFT-CDO-ALLDAYEVENT:FALSE
SUMMARY:Author Signing
DESCRIPTION:Author Kelly Brooks-Bay will be signing her latest children's book\, "Sea Glass and the Lighthouse". Stop by and see Santa arrive at the Boathouse Hotel--then head over the bridge to Fine Print Booksellers.
X-ALT-DESC;FMTTYPE=text/html:Author Kelly Brooks-Bay will be signing her latest children&#39\;s book\, &quot\;Sea Glass and the Lighthouse&quot\;. Stop by and see Santa arrive at the Boathouse Hotel--then head over the bridge to Fine Print Booksellers.
LOCATION:Fine Print Booksellers Dock Square Kennebunkport
UID:e.1923.6985
SEQUENCE:3
DTSTAMP:20260425T222511Z
URL:https://chamber.gokennebunks.com/events/details/author-signing-12-03-2017-6985
END:VEVENT

END:VCALENDAR
