BEGIN:VCALENDAR
VERSION:2.0
PRODID:-//ChamberMaster//Event Calendar 2.0//EN
METHOD:PUBLISH
X-PUBLISHED-TTL:P3D
REFRESH-INTERVAL:P3D
CALSCALE:GREGORIAN
BEGIN:VEVENT
DTSTART:20171202T170000Z
DTEND:20171202T190000Z
X-MICROSOFT-CDO-ALLDAYEVENT:FALSE
SUMMARY:Author Signing
DESCRIPTION:Meet author John Getchell as he signs his book "Sign of the Apocalypse"
X-ALT-DESC;FMTTYPE=text/html:Meet author John Getchell as he signs his book &quot\;Sign of the Apocalypse&quot\;
LOCATION:Fine Print Booksellers Dock Square Kennebunkport
UID:e.1923.6984
SEQUENCE:3
DTSTAMP:20260425T222513Z
URL:https://chamber.gokennebunks.com/events/details/author-signing-12-02-2017-6984
END:VEVENT

END:VCALENDAR
