BEGIN:VCALENDAR
VERSION:2.0
PRODID:-//ChamberMaster//Event Calendar 2.0//EN
METHOD:PUBLISH
X-PUBLISHED-TTL:P3D
REFRESH-INTERVAL:P3D
CALSCALE:GREGORIAN
BEGIN:VEVENT
DTSTART:20180707T120000Z
DTEND:20180707T170000Z
X-MICROSOFT-CDO-ALLDAYEVENT:FALSE
SUMMARY:Atlantic Hall Library Book Sale
DESCRIPTION:Most books $1.00 and $2.00 Local crafts and more
X-ALT-DESC;FMTTYPE=text/html:Most books $1.00 and $2.00 Local crafts and more
LOCATION:The historic Atlantic Hall 173 Main Street Cape Porpoise
UID:e.1923.9901
SEQUENCE:3
DTSTAMP:20260425T132619Z
URL:https://chamber.gokennebunks.com/events/details/atlantic-hall-library-book-sale-9901
END:VEVENT

END:VCALENDAR
