BEGIN:VCALENDAR
VERSION:2.0
PRODID:-//ChamberMaster//Event Calendar 2.0//EN
METHOD:PUBLISH
X-PUBLISHED-TTL:P3D
REFRESH-INTERVAL:P3D
CALSCALE:GREGORIAN
BEGIN:VEVENT
DTSTART:20230916T140000Z
DTEND:20230916T200000Z
X-MICROSOFT-CDO-ALLDAYEVENT:FALSE
SUMMARY:Arundel Heritage Day
DESCRIPTION:Heritage Day is a family friendly community gsthering celebrating Arundel's rural heritage. Old engine display\, craft vendors\, craft demonstrations\, Civil War encampment\, food\, children's games\, frying pan toss\, pie baking contest\, historical displays \, music \, animals\,and much more. Free parking and admission.
X-ALT-DESC;FMTTYPE=text/html:Heritage Day is a family friendly community gsthering celebrating Arundel&#39\;s rural heritage. Old engine display\, craft vendors\, craft demonstrations\, Civil War encampment\, food\, children&#39\;s games\, frying pan toss\, pie baking contest\, historical displays \, music \, animals\,and much more. Free parking and admission.
LOCATION:Corner of Route 111(Alfred Road) and Limerick Road\, Arundel
UID:e.1923.18975
SEQUENCE:3
DTSTAMP:20260422T033957Z
URL:https://chamber.gokennebunks.com/events/details/arundel-heritage-day-09-16-2023-18975
END:VEVENT

END:VCALENDAR
