BEGIN:VCALENDAR
VERSION:2.0
PRODID:-//ChamberMaster//Event Calendar 2.0//EN
METHOD:PUBLISH
X-PUBLISHED-TTL:P3D
REFRESH-INTERVAL:P3D
CALSCALE:GREGORIAN
BEGIN:VEVENT
DTSTART:20240911T120000Z
DTEND:20240911T170000Z
X-MICROSOFT-CDO-ALLDAYEVENT:FALSE
SUMMARY:Arundel Conservation Trust"s Trail Fest 5K\, 10K\, 1/2 Marathon trail race and free kids' flow trail race (ages 5-12)
DESCRIPTION:
X-ALT-DESC;FMTTYPE=text/html:
LOCATION:
UID:e.1923.30523
SEQUENCE:3
DTSTAMP:20260421T100550Z
URL:https://chamber.gokennebunks.com/events/details/arundel-conservation-trust-s-trail-fest-5k-10k-1-2-marathon-trail-race-and-free-kids-flow-trail-race-ages-5-12-30523
END:VEVENT

END:VCALENDAR
