BEGIN:VCALENDAR
VERSION:2.0
PRODID:-//ChamberMaster//Event Calendar 2.0//EN
METHOD:PUBLISH
X-PUBLISHED-TTL:P3D
REFRESH-INTERVAL:P3D
CALSCALE:GREGORIAN
BEGIN:VEVENT
DTSTART:20240809T210000Z
DTEND:20240809T230000Z
X-MICROSOFT-CDO-ALLDAYEVENT:FALSE
SUMMARY:ArtWalk Block Party at the Museum
DESCRIPTION:5PM   7PM\, Brick Store Museum\, 117 Main Street\, Kennebunk. Discover new artists\, enjoy treats\, watch the new evening projection show "Kennebunk in Pictures\," all while visiting the Museum for free! Treats provided by Huntington Common. Learn more at www.brickstoremuseum.org.
X-ALT-DESC;FMTTYPE=text/html:5PM &ndash\; 7PM\, Brick Store Museum\, 117 Main Street\, Kennebunk. Discover new artists\, enjoy treats\, watch the new evening projection show &ldquo\;Kennebunk in Pictures\,&rdquo\; all while visiting the Museum for free! Treats provided by Huntington Common. Learn more at <a href="http://www.brickstoremuseum.org/">www.brickstoremuseum.org</a>.
LOCATION:117 Main Street\, Kennebunk\, ME 04043
UID:e.1923.29694
SEQUENCE:3
DTSTAMP:20260421T124309Z
URL:https://chamber.gokennebunks.com/events/details/artwalk-block-party-at-the-museum-29694
END:VEVENT

END:VCALENDAR
