BEGIN:VCALENDAR
VERSION:2.0
PRODID:-//ChamberMaster//Event Calendar 2.0//EN
METHOD:PUBLISH
X-PUBLISHED-TTL:P3D
REFRESH-INTERVAL:P3D
CALSCALE:GREGORIAN
BEGIN:VEVENT
DTSTART:20240712T210000Z
DTEND:20240712T230000Z
X-MICROSOFT-CDO-ALLDAYEVENT:FALSE
SUMMARY:ArtWalk at the Museum
DESCRIPTION:Friday\, July 12: \n\nArtWalk at the Museum\, 5PM   7PM\, Brick Store Museum\, 117 Main Street\, Kennebunk. Discover new artists visiting the galleries and free admission to the Museum during the Downtown Art Walk! Treats provided by Huntington Common. Learn more at www.brickstoremuseum.org.
X-ALT-DESC;FMTTYPE=text/html:<strong>Friday\, July 12:&nbsp\;</strong><br />\n<strong>ArtWalk at the Museum\, </strong>5PM &ndash\; 7PM\, Brick Store Museum\, 117 Main Street\, Kennebunk. Discover new artists visiting the galleries and free admission to the Museum during the Downtown Art Walk! Treats provided by Huntington Common. Learn more at <a href="http://www.brickstoremuseum.org/">www.brickstoremuseum.org</a>.<br />\n&nbsp\;
LOCATION:Brick Store Museum\, 117 Main Street\, Kennebunk
UID:e.1923.25463
SEQUENCE:3
DTSTAMP:20260421T140109Z
URL:https://chamber.gokennebunks.com/events/details/artwalk-at-the-museum-25463
END:VEVENT

END:VCALENDAR
